BEGIN:VCALENDAR
VERSION:2.0
PRODID:-//Dance with Stacey - ECPv6.15.20//NONSGML v1.0//EN
CALSCALE:GREGORIAN
METHOD:PUBLISH
X-WR-CALNAME:Dance with Stacey
X-ORIGINAL-URL:https://www.dancewithstacey.co.uk
X-WR-CALDESC:Events for Dance with Stacey
REFRESH-INTERVAL;VALUE=DURATION:PT1H
X-Robots-Tag:noindex
X-PUBLISHED-TTL:PT1H
BEGIN:VTIMEZONE
TZID:Europe/London
BEGIN:DAYLIGHT
TZOFFSETFROM:+0000
TZOFFSETTO:+0100
TZNAME:BST
DTSTART:20240331T010000
END:DAYLIGHT
BEGIN:STANDARD
TZOFFSETFROM:+0100
TZOFFSETTO:+0000
TZNAME:GMT
DTSTART:20241027T010000
END:STANDARD
BEGIN:DAYLIGHT
TZOFFSETFROM:+0000
TZOFFSETTO:+0100
TZNAME:BST
DTSTART:20250330T010000
END:DAYLIGHT
BEGIN:STANDARD
TZOFFSETFROM:+0100
TZOFFSETTO:+0000
TZNAME:GMT
DTSTART:20251026T010000
END:STANDARD
BEGIN:DAYLIGHT
TZOFFSETFROM:+0000
TZOFFSETTO:+0100
TZNAME:BST
DTSTART:20260329T010000
END:DAYLIGHT
BEGIN:STANDARD
TZOFFSETFROM:+0100
TZOFFSETTO:+0000
TZNAME:GMT
DTSTART:20261025T010000
END:STANDARD
END:VTIMEZONE
BEGIN:VEVENT
DTSTART;TZID=Europe/London:20250627T080000
DTEND;TZID=Europe/London:20250627T170000
DTSTAMP:20260421T114648
CREATED:20250106T215534Z
LAST-MODIFIED:20250107T115546Z
UID:968-1751011200-1751043600@www.dancewithstacey.co.uk
SUMMARY:Modern Jive Freestyle with Dance with Stacey
DESCRIPTION:Tonight we have our ‘Summertime Dance’ LeRoc Modern Jive Freestyle at the beautiful Oving Jubilee Hall\, High Street\, Oving\, Chichester. \nCome and join us to mark the joys of Summer with a bright and colourful Friday Freestyle and get your weekend off to a great start! \nDoors open at 7.45pm with non-stop freestyle through til 11pm! \nWe’ll have some delicious fruits and sweet treats to keep your energy levels up\, or feel free to bring your own drinks and snacks and make the event your own! \nOnly £10pp\, tickets on sale now!
URL:https://www.dancewithstacey.co.uk/event/modern-jive-freestyle-with-dance-with-stacey-2/
LOCATION:Oving Jubilee Hall\, High Street\, Oving\, West Sussex\, PO20 2DQ\, United Kingdom
CATEGORIES:Freestyle
ATTACH;FMTTYPE=image/png:https://www.dancewithstacey.co.uk/wp-content/uploads/2025/01/Summertime-Dance-2025.png
ORGANIZER;CN="Dance with Stacey":MAILTO:stacey@dancewithstacey.co.uk
END:VEVENT
END:VCALENDAR