BEGIN:VCALENDAR
VERSION:2.0
PRODID:-//Dance with Stacey - ECPv6.15.20//NONSGML v1.0//EN
CALSCALE:GREGORIAN
METHOD:PUBLISH
X-WR-CALNAME:Dance with Stacey
X-ORIGINAL-URL:https://www.dancewithstacey.co.uk
X-WR-CALDESC:Events for Dance with Stacey
REFRESH-INTERVAL;VALUE=DURATION:PT1H
X-Robots-Tag:noindex
X-PUBLISHED-TTL:PT1H
BEGIN:VTIMEZONE
TZID:Europe/London
BEGIN:DAYLIGHT
TZOFFSETFROM:+0000
TZOFFSETTO:+0100
TZNAME:BST
DTSTART:20250330T010000
END:DAYLIGHT
BEGIN:STANDARD
TZOFFSETFROM:+0100
TZOFFSETTO:+0000
TZNAME:GMT
DTSTART:20251026T010000
END:STANDARD
BEGIN:DAYLIGHT
TZOFFSETFROM:+0000
TZOFFSETTO:+0100
TZNAME:BST
DTSTART:20260329T010000
END:DAYLIGHT
BEGIN:STANDARD
TZOFFSETFROM:+0100
TZOFFSETTO:+0000
TZNAME:GMT
DTSTART:20261025T010000
END:STANDARD
BEGIN:DAYLIGHT
TZOFFSETFROM:+0000
TZOFFSETTO:+0100
TZNAME:BST
DTSTART:20270328T010000
END:DAYLIGHT
BEGIN:STANDARD
TZOFFSETFROM:+0100
TZOFFSETTO:+0000
TZNAME:GMT
DTSTART:20271031T010000
END:STANDARD
END:VTIMEZONE
BEGIN:VEVENT
DTSTART;TZID=Europe/London:20260421T193000
DTEND;TZID=Europe/London:20260421T213000
DTSTAMP:20260421T110828
CREATED:20260318T202632Z
LAST-MODIFIED:20260318T202632Z
UID:1800-1776799800-1776807000@www.dancewithstacey.co.uk
SUMMARY:Couples-Only Monthly Class - Tuesday 21st April 2026
DESCRIPTION:Looking for something different to do together? 💕\nOur couples-only dance class is the perfect way to spend quality time\, have a laugh\, and learn something new — just the two of you.\nNo partner swapping. No experience needed. No pressure.\nJust simple\, stylish dancing you can enjoy together ❤️\n👉 Find out more details of these classes and how to book your place: Couples-Only Dance Class – Dance with Stacey
URL:https://www.dancewithstacey.co.uk/event/couples-only-monthly-class-tuesday-21st-april-2026/
LOCATION:Goring Conservative Club\, 49 Mulberry Lane\, Worthing\, West Sussex\, BN12 4RA\, United Kingdom
ATTACH;FMTTYPE=image/jpeg:https://www.dancewithstacey.co.uk/wp-content/uploads/2026/03/Couples-Dance-Class.jpg
ORGANIZER;CN="Dance with Stacey":MAILTO:stacey@dancewithstacey.co.uk
END:VEVENT
END:VCALENDAR